BEGIN:VCALENDAR
VERSION:2.0
PRODID:-//Downingtown Golf - ECPv6.15.11//NONSGML v1.0//EN
CALSCALE:GREGORIAN
METHOD:PUBLISH
X-ORIGINAL-URL:https://golfdowningtown.com
X-WR-CALDESC:Events for Downingtown Golf
REFRESH-INTERVAL;VALUE=DURATION:PT1H
X-Robots-Tag:noindex
X-PUBLISHED-TTL:PT1H
BEGIN:VTIMEZONE
TZID:UTC
BEGIN:STANDARD
TZOFFSETFROM:+0000
TZOFFSETTO:+0000
TZNAME:UTC
DTSTART:20240101T000000
END:STANDARD
END:VTIMEZONE
BEGIN:VEVENT
DTSTART;TZID=UTC:20250613T160000
DTEND;TZID=UTC:20250613T200000
DTSTAMP:20260421T144544
CREATED:20250611T181031Z
LAST-MODIFIED:20250611T182829Z
UID:10000570-1749830400-1749844800@golfdowningtown.com
SUMMARY:Seafood Friday
DESCRIPTION:Join us for Seafood Friday at 4pm—fresh catches\, refined flavors\, and a taste of the sea\, all at Seven Tap-Tavern.
URL:https://golfdowningtown.com/event/seafood-friday/2025-06-13/
ATTACH;FMTTYPE=image/jpeg:https://golfdowningtown.com/wp-content/uploads/2025/06/4-1.jpg
END:VEVENT
BEGIN:VEVENT
DTSTART;TZID=UTC:20250613T180000
DTEND;TZID=UTC:20250613T210000
DTSTAMP:20260421T144544
CREATED:20250527T183458Z
LAST-MODIFIED:20250527T184135Z
UID:10000424-1749837600-1749848400@golfdowningtown.com
SUMMARY:Live Music
DESCRIPTION:Kick-off your weekend with live music at Seven Tap-Tavern!
URL:https://golfdowningtown.com/event/live-music-18/2025-06-13/
ATTACH;FMTTYPE=image/jpeg:https://golfdowningtown.com/wp-content/uploads/2025/02/DCC-Events-Calendar-Featured-Image-2.jpg
END:VEVENT
END:VCALENDAR