BEGIN:VCALENDAR
VERSION:2.0
PRODID:-//Downingtown Golf - ECPv6.15.11//NONSGML v1.0//EN
CALSCALE:GREGORIAN
METHOD:PUBLISH
X-ORIGINAL-URL:https://golfdowningtown.com
X-WR-CALDESC:Events for Downingtown Golf
REFRESH-INTERVAL;VALUE=DURATION:PT1H
X-Robots-Tag:noindex
X-PUBLISHED-TTL:PT1H
BEGIN:VTIMEZONE
TZID:UTC
BEGIN:STANDARD
TZOFFSETFROM:+0000
TZOFFSETTO:+0000
TZNAME:UTC
DTSTART:20240101T000000
END:STANDARD
END:VTIMEZONE
BEGIN:VEVENT
DTSTART;TZID=UTC:20250315T100000
DTEND;TZID=UTC:20250315T150000
DTSTAMP:20260425T023223
CREATED:20250218T173956Z
LAST-MODIFIED:20250221T142629Z
UID:10000115-1742032800-1742050800@golfdowningtown.com
SUMMARY:Angry Leprechaun
DESCRIPTION:Kick off the 2025 golf season with Downingtown’s first big tournament of the year! \nCLICK HERE FOR PUBLIC REGISTRATION \nCLICK HERE FOR MEMBER REGISTRATION
URL:https://golfdowningtown.com/event/shamrock-scramble/
CATEGORIES:Public
ATTACH;FMTTYPE=image/jpeg:https://golfdowningtown.com/wp-content/uploads/2025/02/dcc-leprechaun-cover.jpg
END:VEVENT
BEGIN:VEVENT
DTSTART;TZID=UTC:20250315T160000
DTEND;TZID=UTC:20250315T200000
DTSTAMP:20260425T023223
CREATED:20250204T142951Z
LAST-MODIFIED:20250204T142951Z
UID:10000105-1742054400-1742068800@golfdowningtown.com
SUMMARY:Prime Rib Night
DESCRIPTION:Join us every Saturday night at 4:00 PM for Prime Rib Night at Downingtown! \nChoice of Soup or Salad\, Queen Cut ($25) or King Cut ($32) Prime Rib\, Glass of Wine\, and Featured Dessert!
URL:https://golfdowningtown.com/event/prime-rib-night-5/
ATTACH;FMTTYPE=image/jpeg:https://golfdowningtown.com/wp-content/uploads/2025/02/DCC-Events-Calendar-Featured-Image-5.jpg
END:VEVENT
END:VCALENDAR